BEGIN:VCALENDAR
VERSION:2.0
PRODID:-//AAGL - ECPv6.1.3//NONSGML v1.0//EN
CALSCALE:GREGORIAN
METHOD:PUBLISH
X-WR-CALNAME:AAGL
X-ORIGINAL-URL:https://webdev.aagl.org
X-WR-CALDESC:Events for AAGL
REFRESH-INTERVAL;VALUE=DURATION:PT1H
X-Robots-Tag:noindex
X-PUBLISHED-TTL:PT1H
BEGIN:VTIMEZONE
TZID:America/Los_Angeles
BEGIN:DAYLIGHT
TZOFFSETFROM:-0800
TZOFFSETTO:-0700
TZNAME:PDT
DTSTART:20230312T100000
END:DAYLIGHT
BEGIN:STANDARD
TZOFFSETFROM:-0700
TZOFFSETTO:-0800
TZNAME:PST
DTSTART:20231105T090000
END:STANDARD
BEGIN:DAYLIGHT
TZOFFSETFROM:-0800
TZOFFSETTO:-0700
TZNAME:PDT
DTSTART:20240310T100000
END:DAYLIGHT
BEGIN:STANDARD
TZOFFSETFROM:-0700
TZOFFSETTO:-0800
TZNAME:PST
DTSTART:20241103T090000
END:STANDARD
END:VTIMEZONE
BEGIN:VEVENT
DTSTART;VALUE=DATE:20241116
DTEND;VALUE=DATE:20241121
DTSTAMP:20260425T180120
CREATED:20221210T003659Z
LAST-MODIFIED:20230525T135816Z
UID:10000010-1731794400-1732139999@webdev.aagl.org
SUMMARY:53rd Global Congress on MIGS
DESCRIPTION:53rd Global Congress on MIGS\nNovember 17-20\, 2024\nErnst N. Morial Convention Center\nNew Orleans\, LA\nContact: meetings@aagl.org
URL:https://webdev.aagl.org/event/53rd-global-congress-on-migs/
LOCATION:Ernst N. Morial Convention Center\, New Orleans\, LA\, United States
CATEGORIES:Congress
END:VEVENT
BEGIN:VEVENT
DTSTART;VALUE=DATE:20231105
DTEND;VALUE=DATE:20231109
DTSTAMP:20260425T180120
CREATED:20221105T233549Z
LAST-MODIFIED:20230612T220316Z
UID:10000009-1699221600-1699480799@webdev.aagl.org
SUMMARY:52nd Global Congress on MIGS
DESCRIPTION:52nd Annual Global Congress on MIGS\nNovember 5-8\, 2023\nMusic City Center\nNashville\, Tennessee\nContact: meetings@aagl.org\nTo learn more\, please visit: https://congress.aagl.org/ \n  \n 
URL:https://webdev.aagl.org/event/52nd-global-congress-on-migs/
LOCATION:Music City Center\, 201 Rep. John Lewis Way S\, Nashville\, TN\, 37064\, United States
CATEGORIES:Congress
ATTACH;FMTTYPE=image/png:https://webdev.aagl.org/wp-content/uploads/2022/11/aagl-2023-1200x630-web.png
END:VEVENT
BEGIN:VEVENT
DTSTART;VALUE=DATE:20230920
DTEND;VALUE=DATE:20230924
DTSTAMP:20260425T180120
CREATED:20220923T233445Z
LAST-MODIFIED:20230525T134546Z
UID:10000008-1695240000-1695499140@webdev.aagl.org
SUMMARY:19th Annual AAGL International Congress on MIGS
DESCRIPTION:Description:\n19th Annual AAGL International Congress on MIGS\nMauricio Abrao\, MD\, PhD\, Scientific Program Chair\nAgnaldo Lopes\, MD\, Co-Chair\nContact: Mauricio Abrao email: msabrao@mac.com
URL:https://webdev.aagl.org/event/19th-annual-aagl-international-congress-on-migs/
CATEGORIES:Congress
ATTACH;FMTTYPE=image/jpeg:https://webdev.aagl.org/wp-content/uploads/2022/09/aagl22-slide-intl-brazil.jpg
END:VEVENT
END:VCALENDAR